BEGIN:VCALENDAR
VERSION:2.0
PRODID:-//BVO EMDEN - ECPv6.15.16//NONSGML v1.0//EN
CALSCALE:GREGORIAN
METHOD:PUBLISH
X-ORIGINAL-URL:https://www.bvo-emden.de
X-WR-CALDESC:Veranstaltungen für BVO EMDEN
REFRESH-INTERVAL;VALUE=DURATION:PT1H
X-Robots-Tag:noindex
X-PUBLISHED-TTL:PT1H
BEGIN:VTIMEZONE
TZID:UTC
BEGIN:STANDARD
TZOFFSETFROM:+0000
TZOFFSETTO:+0000
TZNAME:UTC
DTSTART:20210101T000000
END:STANDARD
END:VTIMEZONE
BEGIN:VEVENT
DTSTART;TZID=UTC:20220701T193000
DTEND;TZID=UTC:20220701T213000
DTSTAMP:20260420T155947
CREATED:20220514T090725Z
LAST-MODIFIED:20220514T090725Z
UID:244754-1656703800-1656711000@www.bvo-emden.de
SUMMARY:Mitgliederversammlung BVO
DESCRIPTION:
URL:https://www.bvo-emden.de/event/mitgliederversammlung/
LOCATION:Nordseehalle Emden\, Früchteburger Weg 17-19\, Emden\, Niedersachsen\, 26721\, Deutschland
END:VEVENT
END:VCALENDAR