BEGIN:VCALENDAR
VERSION:2.0
PRODID:-//BVO EMDEN - ECPv6.15.16//NONSGML v1.0//EN
CALSCALE:GREGORIAN
METHOD:PUBLISH
X-ORIGINAL-URL:https://www.bvo-emden.de
X-WR-CALDESC:Veranstaltungen für BVO EMDEN
REFRESH-INTERVAL;VALUE=DURATION:PT1H
X-Robots-Tag:noindex
X-PUBLISHED-TTL:PT1H
BEGIN:VTIMEZONE
TZID:UTC
BEGIN:STANDARD
TZOFFSETFROM:+0000
TZOFFSETTO:+0000
TZNAME:UTC
DTSTART:20210101T000000
END:STANDARD
END:VTIMEZONE
BEGIN:VEVENT
DTSTART;TZID=UTC:20220710T100000
DTEND;TZID=UTC:20220710T170000
DTSTAMP:20260420T160000
CREATED:20220514T090926Z
LAST-MODIFIED:20220514T091221Z
UID:244761-1657447200-1657472400@www.bvo-emden.de
SUMMARY:Ehrenamtstag
DESCRIPTION:
URL:https://www.bvo-emden.de/event/ehrenamtstag/
LOCATION:Ortsgruppe Aurich\, Stürenburgweg 42\, Aurich\, Niedersachsen\, 26607\, Deutschland
END:VEVENT
END:VCALENDAR