BEGIN:VCALENDAR
VERSION:2.0
PRODID:-//BVO EMDEN - ECPv6.15.16//NONSGML v1.0//EN
CALSCALE:GREGORIAN
METHOD:PUBLISH
X-ORIGINAL-URL:https://www.bvo-emden.de
X-WR-CALDESC:Veranstaltungen für BVO EMDEN
REFRESH-INTERVAL;VALUE=DURATION:PT1H
X-Robots-Tag:noindex
X-PUBLISHED-TTL:PT1H
BEGIN:VTIMEZONE
TZID:UTC
BEGIN:STANDARD
TZOFFSETFROM:+0000
TZOFFSETTO:+0000
TZNAME:UTC
DTSTART:20210101T000000
END:STANDARD
END:VTIMEZONE
BEGIN:VEVENT
DTSTART;TZID=UTC:20220730T170000
DTEND;TZID=UTC:20220731T100000
DTSTAMP:20260420T155956
CREATED:20220514T091617Z
LAST-MODIFIED:20220514T091617Z
UID:244769-1659200400-1659261600@www.bvo-emden.de
SUMMARY:Nachtangeln der Gesamtjugend
DESCRIPTION:
URL:https://www.bvo-emden.de/event/nachtangeln-der-gesamtjugend/
LOCATION:Ortsgruppen Emden\, Verbindunsschleuse\, Emden\, Niedersachsen\, 26123\, Deutschland
END:VEVENT
END:VCALENDAR