BEGIN:VCALENDAR
VERSION:2.0
PRODID:-//BVO EMDEN - ECPv6.15.16//NONSGML v1.0//EN
CALSCALE:GREGORIAN
METHOD:PUBLISH
X-ORIGINAL-URL:https://www.bvo-emden.de
X-WR-CALDESC:Veranstaltungen für BVO EMDEN
REFRESH-INTERVAL;VALUE=DURATION:PT1H
X-Robots-Tag:noindex
X-PUBLISHED-TTL:PT1H
BEGIN:VTIMEZONE
TZID:UTC
BEGIN:STANDARD
TZOFFSETFROM:+0000
TZOFFSETTO:+0000
TZNAME:UTC
DTSTART:20210101T000000
END:STANDARD
END:VTIMEZONE
BEGIN:VEVENT
DTSTART;TZID=UTC:20220825T060000
DTEND;TZID=UTC:20220825T170000
DTSTAMP:20260420T145157
CREATED:20220514T092135Z
LAST-MODIFIED:20220514T092337Z
UID:244775-1661407200-1661446800@www.bvo-emden.de
SUMMARY:Hegefischen der OG Norden (Treckfahrtstief)
DESCRIPTION:
URL:https://www.bvo-emden.de/event/hegefischen-der-og-norden-treckfahrtstief/
LOCATION:Brücke / Holz-  bude Trecktief
END:VEVENT
END:VCALENDAR