BEGIN:VCALENDAR
VERSION:2.0
PRODID:-//BVO EMDEN - ECPv6.15.16//NONSGML v1.0//EN
CALSCALE:GREGORIAN
METHOD:PUBLISH
X-ORIGINAL-URL:https://www.bvo-emden.de
X-WR-CALDESC:Veranstaltungen für BVO EMDEN
REFRESH-INTERVAL;VALUE=DURATION:PT1H
X-Robots-Tag:noindex
X-PUBLISHED-TTL:PT1H
BEGIN:VTIMEZONE
TZID:UTC
BEGIN:STANDARD
TZOFFSETFROM:+0000
TZOFFSETTO:+0000
TZNAME:UTC
DTSTART:20210101T000000
END:STANDARD
END:VTIMEZONE
BEGIN:VEVENT
DTSTART;TZID=UTC:20220829T190000
DTEND;TZID=UTC:20220829T203000
DTSTAMP:20260420T125751
CREATED:20220514T081241Z
LAST-MODIFIED:20220514T081308Z
UID:244748-1661799600-1661805000@www.bvo-emden.de
SUMMARY:ONLINE-VIDEOLEHRGANG ZUR VORBEREITUNG AUF DIE FISCHERPRÜFUNG
DESCRIPTION:Eine verbindliche Anmeldung zu diesem Lehrgang ist zur Zeit noch nicht möglich!
URL:https://www.bvo-emden.de/event/online-videolehrgang-zur-vorbereitung-auf-die-fischerpruefung-2/
LOCATION:Online – Alle Ortsgruppen
END:VEVENT
END:VCALENDAR