BEGIN:VCALENDAR
VERSION:2.0
PRODID:-//BVO EMDEN - ECPv6.15.16//NONSGML v1.0//EN
CALSCALE:GREGORIAN
METHOD:PUBLISH
X-ORIGINAL-URL:https://www.bvo-emden.de
X-WR-CALDESC:Veranstaltungen für BVO EMDEN
REFRESH-INTERVAL;VALUE=DURATION:PT1H
X-Robots-Tag:noindex
X-PUBLISHED-TTL:PT1H
BEGIN:VTIMEZONE
TZID:UTC
BEGIN:STANDARD
TZOFFSETFROM:+0000
TZOFFSETTO:+0000
TZNAME:UTC
DTSTART:20210101T000000
END:STANDARD
END:VTIMEZONE
BEGIN:VEVENT
DTSTART;TZID=UTC:20221015T080000
DTEND;TZID=UTC:20221015T170000
DTSTAMP:20260420T111907
CREATED:20220514T092953Z
LAST-MODIFIED:20220514T190001Z
UID:244786-1665820800-1665853200@www.bvo-emden.de
SUMMARY:Abangeln der Gesamtjugend BVO
DESCRIPTION:
URL:https://www.bvo-emden.de/event/abangeln-der-gesamtjugend-bvo/
LOCATION:Ortsgruppe Südbrookmerland\, Bahnhofstr. 7\, Südbrookmerland\, Niedersachsen\, 26624\, Deutschland
END:VEVENT
END:VCALENDAR