BEGIN:VCALENDAR
VERSION:2.0
PRODID:-//BVO EMDEN - ECPv6.15.16//NONSGML v1.0//EN
CALSCALE:GREGORIAN
METHOD:PUBLISH
X-ORIGINAL-URL:https://www.bvo-emden.de
X-WR-CALDESC:Veranstaltungen für BVO EMDEN
REFRESH-INTERVAL;VALUE=DURATION:PT1H
X-Robots-Tag:noindex
X-PUBLISHED-TTL:PT1H
BEGIN:VTIMEZONE
TZID:UTC
BEGIN:STANDARD
TZOFFSETFROM:+0000
TZOFFSETTO:+0000
TZNAME:UTC
DTSTART:20240101T000000
END:STANDARD
END:VTIMEZONE
BEGIN:VEVENT
DTSTART;TZID=UTC:20250118T150000
DTEND;TZID=UTC:20250118T170000
DTSTAMP:20260425T214844
CREATED:20250108T091212Z
LAST-MODIFIED:20250108T091212Z
UID:245484-1737212400-1737219600@www.bvo-emden.de
SUMMARY:Ortsgruppenversammlung OG Emden
DESCRIPTION:Findet statt im Vereinsheim Emden
URL:https://www.bvo-emden.de/event/ortsgruppenversammlung-og-emden/
LOCATION:Vereinsheim Emden\, Verbindungsschleuse\, Emden\, 26725\, Germany
CATEGORIES:OG Emden
END:VEVENT
END:VCALENDAR