BEGIN:VCALENDAR
VERSION:2.0
PRODID:-//BVO EMDEN - ECPv6.15.16//NONSGML v1.0//EN
CALSCALE:GREGORIAN
METHOD:PUBLISH
X-ORIGINAL-URL:https://www.bvo-emden.de
X-WR-CALDESC:Veranstaltungen für BVO EMDEN
REFRESH-INTERVAL;VALUE=DURATION:PT1H
X-Robots-Tag:noindex
X-PUBLISHED-TTL:PT1H
BEGIN:VTIMEZONE
TZID:UTC
BEGIN:STANDARD
TZOFFSETFROM:+0000
TZOFFSETTO:+0000
TZNAME:UTC
DTSTART:20240101T000000
END:STANDARD
END:VTIMEZONE
BEGIN:VEVENT
DTSTART;TZID=UTC:20250203T190000
DTEND;TZID=UTC:20250405T140000
DTSTAMP:20260425T201802
CREATED:20241125T085226Z
LAST-MODIFIED:20250117T110432Z
UID:245471-1738609200-1743861600@www.bvo-emden.de
SUMMARY:Fischerlehrgang #1 2025
DESCRIPTION:Der Lehrgang beginnt am 03.02.2025\nDie Prüfungen werden voraussichtlich am 02.04.2025 in Leer und 05.04.2025 in Norden stattfinden.\nAnmeldungen sind über das Büro des BVO und ASV Leer möglich. \nInformationsblatt herunterladen
URL:https://www.bvo-emden.de/event/fischerlehrgang-1-2025/
LOCATION:Ortsgruppe Norden\, Am Norder Tief 3\, Norden\, Niedersachsen\, 26506\, Deutschland
CATEGORIES:Fischerlehrgang
END:VEVENT
BEGIN:VEVENT
DTSTART;TZID=UTC:20250307T190000
DTEND;TZID=UTC:20250307T210000
DTSTAMP:20260425T201802
CREATED:20250108T091651Z
LAST-MODIFIED:20250108T091651Z
UID:245493-1741374000-1741381200@www.bvo-emden.de
SUMMARY:Ortsgruppenversammlung OG Wittmund
DESCRIPTION:Findet statt im Vereinsheim Wittmund
URL:https://www.bvo-emden.de/event/ortsgruppenversammlung-og-wittmund/
LOCATION:Vereinsheim Wittmund\, Wittmund\, 26409
CATEGORIES:OG Wittmund
END:VEVENT
END:VCALENDAR