BEGIN:VCALENDAR
VERSION:2.0
PRODID:-//BVO EMDEN - ECPv6.15.16//NONSGML v1.0//EN
CALSCALE:GREGORIAN
METHOD:PUBLISH
X-ORIGINAL-URL:https://www.bvo-emden.de
X-WR-CALDESC:Veranstaltungen für BVO EMDEN
REFRESH-INTERVAL;VALUE=DURATION:PT1H
X-Robots-Tag:noindex
X-PUBLISHED-TTL:PT1H
BEGIN:VTIMEZONE
TZID:UTC
BEGIN:STANDARD
TZOFFSETFROM:+0000
TZOFFSETTO:+0000
TZNAME:UTC
DTSTART:20210101T000000
END:STANDARD
END:VTIMEZONE
BEGIN:VEVENT
DTSTART;TZID=UTC:20220514T080000
DTEND;TZID=UTC:20220514T170000
DTSTAMP:20260420T173141
CREATED:20220514T081110Z
LAST-MODIFIED:20220514T082007Z
UID:244746-1652515200-1652547600@www.bvo-emden.de
SUMMARY:PRÄSENZLEHRGANG ZUR VORBEREITUNG AUF DIE FISCHERPRÜFUNG
DESCRIPTION:Der Lehrgang beginnt am 29.08.2022\, sofern bis dahin genügend verbindliche Anmeldungen bei der Geschäftsstelle in Emden vorliegen. Anmelden zum Fischerlehrgang können sich alle Personen\, die zu Beginn des Lehrgangs mindestens 13\,5 Jahre alt sind\, im Einzugsbereich des BVO wohnen\, d. h. dort mit erstem Wohnsitz gemeldet sind und entweder GENESEN oder GEIMPFT (= 2G-Regel) sind. Anmelden zum Lehrgang können sich ebenfalls Jugendliche bis zur Vollendung des 18. Lebensjahres\, wenn sie unmittelbar vor Lehrgangsbeginn eine aktuelle Schulbescheinigung vorlegen\, sowie Personen\, die sich nicht impfen lassen dürfen (medizinische Kontraindikation\, Personen in Klinischen Studien). Um sich zum Fischerlehrgang anzumelden gehen Sie bitte wie folgt vor:\n1. Laden Sie bitte das Anmeldeformular hier https://www.bvo-emden.de/pdf/anmeldung_fipru-pre.pdf herunter\, füllen dieses aus\, und senden es\, zusammen mit einem Passfoto\, an die Geschäftsstelle des BVO (Bezirksfischereiverband für Ostfriesland e. V.\, Verbindungsschleuse\, 26725 Emden) nach Emden. Bei Jugendlichen ist die (zusätzliche) Unterschrift eines Erziehungsberechtigten erforderlich.\n3. Überweisen Sie die bitte die Lehrgangsgebühr in Höhe von 110\,00 EUR (für Erwachsene) bzw. 85\,00 EUR (für Jugendliche) auf unser Geschäftskonto bei der Sparkasse Emden\, IBAN: DE42 2845 0000 0000 0145 89\, unter Angabe des Verwendungszweckes „FISCHERLEHRGANG SÜDBROOKMERLAND“.\nNachdem Ihr Anmeldeformular nebst Passfoto bei der Geschäftsstelle in Emden eingegangen ist und Ihre Lehrgangsgebühr unserem Geschäftskonto gutgeschrieben wurde\, nehmen wir Sie in unsere WhatsApp-Lehrgangsgruppe bzw. in unseren E-Mail-Verteiler auf. Über diese beiden Kommunikationswege erhalten Sie dann laufend weitere Informationen zum Lehrgang.
URL:https://www.bvo-emden.de/event/praesenzlehrgang-zur-vorbereitung-auf-die-fischerpruefung-2/
LOCATION:Ortsgruppe Südbrookmerland\, Bahnhofstr. 7\, Südbrookmerland\, Niedersachsen\, 26624\, Deutschland
END:VEVENT
BEGIN:VEVENT
DTSTART;TZID=UTC:20220523T190000
DTEND;TZID=UTC:20220523T203000
DTSTAMP:20260420T173141
CREATED:20220514T080406Z
LAST-MODIFIED:20220514T081955Z
UID:244739-1653332400-1653337800@www.bvo-emden.de
SUMMARY:PRÄSENZLEHRGANG ZUR VORBEREITUNG AUF DIE FISCHERPRÜFUNG
DESCRIPTION:Der Lehrgang beginnt am 23.05.2022\, sofern bis dahin genügend verbindliche Anmeldungen bei der Geschäftsstelle in Emden vorliegen. Anmelden zum Fischerlehrgang können sich alle Personen\, die zu Beginn des Lehrgangs mindestens 13\,5 Jahre alt sind\, im Einzugsbereich des BVO wohnen\, d. h. dort mit erstem Wohnsitz gemeldet sind und entweder GENESEN oder GEIMPFT (= 2G-Regel) sind. Anmelden zum Lehrgang können sich ebenfalls Jugendliche bis zur Vollendung des 18. Lebensjahres\, wenn sie unmittelbar vor Lehrgangsbeginn eine aktuelle Schulbescheinigung vorlegen\, sowie Personen\, die sich nicht impfen lassen dürfen (medizinische Kontraindikation\, Personen in Klinischen Studien). Um sich zum Fischerlehrgang anzumelden gehen Sie bitte wie folgt vor:\n1. Laden Sie bitte das Anmeldeformular hier https://www.bvo-emden.de/pdf/anmeldung_fipru-pre.pdf herunter\, füllen dieses aus\, und senden es\, zusammen mit einem Passfoto\, an die Geschäftsstelle des BVO (Bezirksfischereiverband für Ostfriesland e. V.\, Verbindungsschleuse\, 26725 Emden) nach Emden. Bei Jugendlichen ist die (zusätzliche) Unterschrift eines Erziehungsberechtigten erforderlich.\n3. Überweisen Sie die bitte die Lehrgangsgebühr in Höhe von 110\,00 EUR (für Erwachsene) bzw. 85\,00 EUR (für Jugendliche) auf unser Geschäftskonto bei der Sparkasse Emden\, IBAN: DE42 2845 0000 0000 0145 89\, unter Angabe des Verwendungszweckes „FISCHERLEHRGANG WITTMUND“.\nNachdem Ihr Anmeldeformular nebst Passfoto bei der Geschäftsstelle in Emden eingegangen ist und Ihre Lehrgangsgebühr unserem Geschäftskonto gutgeschrieben wurde\, nehmen wir Sie in unsere WhatsApp-Lehrgangsgruppe bzw. in unseren E-Mail-Verteiler auf. Über diese beiden Kommunikationswege erhalten Sie dann laufend weitere Informationen zum Lehrgang.
URL:https://www.bvo-emden.de/event/praesenzlehrgang-zur-vorbereitung-auf-die-fischerpruefung/
LOCATION:Ortsgruppe Wittmund\, Isums 48 B\, Wittmund\, Niedersachsen\, 26409\, Deutschland
END:VEVENT
BEGIN:VEVENT
DTSTART;TZID=UTC:20220530T190000
DTEND;TZID=UTC:20220530T203000
DTSTAMP:20260420T173141
CREATED:20220514T080537Z
LAST-MODIFIED:20220514T081943Z
UID:244741-1653937200-1653942600@www.bvo-emden.de
SUMMARY:ONLINE-VIDEOLEHRGANG ZUR VORBEREITUNG AUF DIE FISCHERPRÜFUNG
DESCRIPTION:Der Lehrgang beginnt am 30.05.2022\, sofern bis dahin genügend verbindliche Anmeldungen bei der Geschäftsstelle in Emden vorliegen. Anmelden zum Online-Videolehrgang können sich alle Personen\, die zu Beginn des Lehrgangs mindestens 13\,5 Jahre alt sind und im Einzugsbereich des BVO wohnen\, d. h. dort mit erstem Wohnsitz gemeldet sind. Um sich zum Online-Videolehrgang anzumelden gehen Sie bitte wie folgt vor:\n1. Registrieren Sie sich bitte zunächst hier:\nhttps://us06web.zoom.us/webinar/register/WN_1LpvsOocQPedE0y4f_Vy6Q\n2. Laden Sie bitte das Anmeldeformular hier https://www.bvo-emden.de/pdf/anmeldung_fipru-onl.pdf herunter\, füllen dieses aus\, und senden es\, zusammen mit einem Passfoto\, an die Geschäftsstelle des BVO (Bezirksfischereiverband für Ostfriesland e. V.\, Verbindungsschleuse\, 26725 Emden) nach Emden. Bei Jugendlichen ist die (zusätzliche) Unterschrift eines Erziehungsberechtigten erforderlich.\n3. Überweisen Sie die bitte die Lehrgangsgebühr in Höhe von 110\,00 EUR (für Erwachsene) bzw. 85\,00 EUR (für Jugendliche) auf unser Geschäftskonto bei der Sparkasse Emden\, IBAN: DE42 2845 0000 0000 0145 89\, unter Angabe des Verwendungszweckes „Online-Videolehrgang#06“.\nNachdem Ihr Anmeldeformular nebst Passfoto bei der Geschäftsstelle in Emden eingegangen ist und Ihre Lehrgangsgebühr unserem Geschäftskonto gutgeschrieben wurde\, nehmen wir Sie in unsere WhatsApp-Lehrgangsgruppe bzw. in unseren E-Mail-Verteiler auf. Über diese beiden Kommunikationswege erhalten Sie dann laufend weitere Informationen zum Lehrgang.
URL:https://www.bvo-emden.de/event/online-videolehrgang-zur-vorbereitung-auf-die-fischerpruefung/
LOCATION:Niedersachsen
END:VEVENT
END:VCALENDAR