BEGIN:VCALENDAR
VERSION:2.0
PRODID:-//BVO EMDEN - ECPv6.15.16//NONSGML v1.0//EN
CALSCALE:GREGORIAN
METHOD:PUBLISH
X-ORIGINAL-URL:https://www.bvo-emden.de
X-WR-CALDESC:Veranstaltungen für BVO EMDEN
REFRESH-INTERVAL;VALUE=DURATION:PT1H
X-Robots-Tag:noindex
X-PUBLISHED-TTL:PT1H
BEGIN:VTIMEZONE
TZID:UTC
BEGIN:STANDARD
TZOFFSETFROM:+0000
TZOFFSETTO:+0000
TZNAME:UTC
DTSTART:20210101T000000
END:STANDARD
END:VTIMEZONE
BEGIN:VEVENT
DTSTART;TZID=UTC:20220924T070000
DTEND;TZID=UTC:20220924T170000
DTSTAMP:20260420T111857
CREATED:20220514T091942Z
LAST-MODIFIED:20220619T063315Z
UID:244771-1664002800-1664038800@www.bvo-emden.de
SUMMARY:Hegefischen der OG Aurich
DESCRIPTION:
URL:https://www.bvo-emden.de/event/hegefischen-der-og-aurich/
LOCATION:Netto Markt Riepe\, Friesenstraße 241\, Ihlow Riepe\, Niedersachsen\, 26632
CATEGORIES:OG Aurich
END:VEVENT
END:VCALENDAR