BEGIN:VCALENDAR
VERSION:2.0
PRODID:-//BVO EMDEN - ECPv6.15.16//NONSGML v1.0//EN
CALSCALE:GREGORIAN
METHOD:PUBLISH
X-ORIGINAL-URL:https://www.bvo-emden.de
X-WR-CALDESC:Veranstaltungen für BVO EMDEN
REFRESH-INTERVAL;VALUE=DURATION:PT1H
X-Robots-Tag:noindex
X-PUBLISHED-TTL:PT1H
BEGIN:VTIMEZONE
TZID:UTC
BEGIN:STANDARD
TZOFFSETFROM:+0000
TZOFFSETTO:+0000
TZNAME:UTC
DTSTART:20210101T000000
END:STANDARD
END:VTIMEZONE
BEGIN:VEVENT
DTSTART;TZID=UTC:20221002T063000
DTEND;TZID=UTC:20221002T170000
DTSTAMP:20260420T094359
CREATED:20220514T092302Z
LAST-MODIFIED:20220514T092302Z
UID:244778-1664692200-1664730000@www.bvo-emden.de
SUMMARY:Abangeln Ortsgruppe Wiesmoor
DESCRIPTION:
URL:https://www.bvo-emden.de/event/abangeln-ortsgruppe-wiesmoor/
LOCATION:Ortsgruppe Wiesmoor\, Anglerweg 1\, Wiesmoor\, Niedersachsen\, 26639\, Deutschland
END:VEVENT
BEGIN:VEVENT
DTSTART;TZID=UTC:20221009T060000
DTEND;TZID=UTC:20221009T170000
DTSTAMP:20260420T094359
CREATED:20220514T092824Z
LAST-MODIFIED:20220514T185947Z
UID:244782-1665295200-1665334800@www.bvo-emden.de
SUMMARY:Raubfischangeln der OG Oldersum
DESCRIPTION:
URL:https://www.bvo-emden.de/event/raubfischangeln-og-oldersum/
LOCATION:Ortsgruppe Oldersum\, Kleingartenanlage Emder Straße\, Oldersum\, Niedersachsen\, 26802\, Deutschland
END:VEVENT
BEGIN:VEVENT
DTSTART;TZID=UTC:20221015T080000
DTEND;TZID=UTC:20221015T170000
DTSTAMP:20260420T094359
CREATED:20220514T092953Z
LAST-MODIFIED:20220514T190001Z
UID:244786-1665820800-1665853200@www.bvo-emden.de
SUMMARY:Abangeln der Gesamtjugend BVO
DESCRIPTION:
URL:https://www.bvo-emden.de/event/abangeln-der-gesamtjugend-bvo/
LOCATION:Ortsgruppe Südbrookmerland\, Bahnhofstr. 7\, Südbrookmerland\, Niedersachsen\, 26624\, Deutschland
END:VEVENT
END:VCALENDAR