BEGIN:VCALENDAR
VERSION:2.0
PRODID:-//BVO EMDEN - ECPv6.15.16//NONSGML v1.0//EN
CALSCALE:GREGORIAN
METHOD:PUBLISH
X-ORIGINAL-URL:https://www.bvo-emden.de
X-WR-CALDESC:Veranstaltungen für BVO EMDEN
REFRESH-INTERVAL;VALUE=DURATION:PT1H
X-Robots-Tag:noindex
X-PUBLISHED-TTL:PT1H
BEGIN:VTIMEZONE
TZID:UTC
BEGIN:STANDARD
TZOFFSETFROM:+0000
TZOFFSETTO:+0000
TZNAME:UTC
DTSTART:20240101T000000
END:STANDARD
END:VTIMEZONE
BEGIN:VEVENT
DTSTART;TZID=UTC:20250203T190000
DTEND;TZID=UTC:20250405T140000
DTSTAMP:20260425T173933
CREATED:20241125T085226Z
LAST-MODIFIED:20250117T110432Z
UID:245471-1738609200-1743861600@www.bvo-emden.de
SUMMARY:Fischerlehrgang #1 2025
DESCRIPTION:Der Lehrgang beginnt am 03.02.2025\nDie Prüfungen werden voraussichtlich am 02.04.2025 in Leer und 05.04.2025 in Norden stattfinden.\nAnmeldungen sind über das Büro des BVO und ASV Leer möglich. \nInformationsblatt herunterladen
URL:https://www.bvo-emden.de/event/fischerlehrgang-1-2025/
LOCATION:Ortsgruppe Norden\, Am Norder Tief 3\, Norden\, Niedersachsen\, 26506\, Deutschland
CATEGORIES:Fischerlehrgang
END:VEVENT
BEGIN:VEVENT
DTSTART;TZID=UTC:20250207T190000
DTEND;TZID=UTC:20250207T210000
DTSTAMP:20260425T173933
CREATED:20250108T091348Z
LAST-MODIFIED:20250108T091348Z
UID:245487-1738954800-1738962000@www.bvo-emden.de
SUMMARY:Ortsgruppenversammlung OG Wiesmoor
DESCRIPTION:Findet statt im Vereinsheim Wiesmoor
URL:https://www.bvo-emden.de/event/ortsgruppenversammlung-og-wiesmoor/
LOCATION:Vereinsheim Wiesmoor\, Anglerweg 1\, Wiesmoor\, 26639
CATEGORIES:OG Wiesmoor
END:VEVENT
BEGIN:VEVENT
DTSTART;TZID=UTC:20250216T100000
DTEND;TZID=UTC:20250216T113000
DTSTAMP:20260425T173933
CREATED:20250108T091513Z
LAST-MODIFIED:20250108T091529Z
UID:245490-1739700000-1739705400@www.bvo-emden.de
SUMMARY:Ortsgruppenversammlung OG Norden
DESCRIPTION:Findet statt im Haus der Vereine
URL:https://www.bvo-emden.de/event/ortsgruppenversammlung-og-norden/
LOCATION:Vereinsheim Norden\, Zuckerpolderstraße 42\, Norden\, 26506
CATEGORIES:OG Norden
END:VEVENT
END:VCALENDAR